BEGIN:VCALENDAR
VERSION:2.0
PRODID:-//Beer Creek Brewing Company - ECPv6.12.0.1//NONSGML v1.0//EN
CALSCALE:GREGORIAN
METHOD:PUBLISH
X-ORIGINAL-URL:https://beercreekbrew.com
X-WR-CALDESC:Events for Beer Creek Brewing Company
REFRESH-INTERVAL;VALUE=DURATION:PT1H
X-Robots-Tag:noindex
X-PUBLISHED-TTL:PT1H
BEGIN:VTIMEZONE
TZID:America/Denver
BEGIN:DAYLIGHT
TZOFFSETFROM:-0700
TZOFFSETTO:-0600
TZNAME:MDT
DTSTART:20250309T090000
END:DAYLIGHT
BEGIN:STANDARD
TZOFFSETFROM:-0600
TZOFFSETTO:-0700
TZNAME:MST
DTSTART:20251102T080000
END:STANDARD
END:VTIMEZONE
BEGIN:VEVENT
DTSTART;TZID=America/Denver:20250213T180000
DTEND;TZID=America/Denver:20250213T193000
DTSTAMP:20260425T184508
CREATED:20250124T220533Z
LAST-MODIFIED:20250124T220533Z
UID:2126-1739469600-1739475000@beercreekbrew.com
SUMMARY:Craft Night @ Beer Creek Brewing Co.
DESCRIPTION:Give your memories a frame as unique as the moments they capture! Swing on by take a cute polaroid and create a DIY picture frame! Choose from a variety of materials\, add your favorite embellishments\, and create a beautiful\, one-of-a-kind frame perfect for any occasion. No prior crafting experience necessary—just your creativity!📸🩷 \n\n🕠 6:00pm – 7:30pm      📍Beer Creek Brewing Co. in Santa Fe
URL:https://beercreekbrew.com/event/trivia-beer-creek-brewing-co-5-2-2-3-2-2/
LOCATION:Beer Creek Brewing Co\, 3810 HWY 14\, Santa Fe\, NM\, 87508\, United States
CATEGORIES:Family Night
END:VEVENT
END:VCALENDAR