BEGIN:VCALENDAR
VERSION:2.0
PRODID:-//Beer Creek Brewing Company - ECPv6.12.0.1//NONSGML v1.0//EN
CALSCALE:GREGORIAN
METHOD:PUBLISH
X-ORIGINAL-URL:https://beercreekbrew.com
X-WR-CALDESC:Events for Beer Creek Brewing Company
REFRESH-INTERVAL;VALUE=DURATION:PT1H
X-Robots-Tag:noindex
X-PUBLISHED-TTL:PT1H
BEGIN:VTIMEZONE
TZID:America/Denver
BEGIN:DAYLIGHT
TZOFFSETFROM:-0700
TZOFFSETTO:-0600
TZNAME:MDT
DTSTART:20260308T090000
END:DAYLIGHT
BEGIN:STANDARD
TZOFFSETFROM:-0600
TZOFFSETTO:-0700
TZNAME:MST
DTSTART:20261101T080000
END:STANDARD
END:VTIMEZONE
BEGIN:VEVENT
DTSTART;TZID=America/Denver:20260220T170000
DTEND;TZID=America/Denver:20260220T193000
DTSTAMP:20260421T174242
CREATED:20260119T175053Z
LAST-MODIFIED:20260219T175351Z
UID:2533-1771606800-1771615800@beercreekbrew.com
SUMMARY:Sloan Armitage @ Beer Creek Brewing Co.
DESCRIPTION:Singer Songwriter Sloan Armitage blends the romantic lullabies of Americana Boxcar folk with haunting\, operatic vocals and tender acoustic guitar rhythms. Souls swoon to the evocative influence of his R&B electric guitar flavor.This Singer Songwriter makes you sit up and take notice with each rhythmic\, melodic creation.There is no shortage of presence and takes you on a lyrical journey into the unknown as he ropes you in and makes you feel.
URL:https://beercreekbrew.com/event/amy-coffman-beer-creek-brewing-co-2-2/
LOCATION:Beer Creek Brewing Co\, 3810 HWY 14\, Santa Fe\, NM\, 87508\, United States
CATEGORIES:Music
END:VEVENT
BEGIN:VEVENT
DTSTART;TZID=America/Denver:20260227T170000
DTEND;TZID=America/Denver:20260227T193000
DTSTAMP:20260421T174242
CREATED:20260119T174108Z
LAST-MODIFIED:20260219T175009Z
UID:2531-1772211600-1772220600@beercreekbrew.com
SUMMARY:Geoffrey Castle @ Beer Creek Brewing Co.
DESCRIPTION:Forget everything you think you know about the violin\, and prepare to be dazzled by our new neighbor Geoffrey Castle! His unique talents have taken him all over the world\, from Beijing to Vienna\, Alaska to Ecuador\, and his career includes performing on stage in a Broadway Show\, and playing with members of bands like Journey\, Bad Company\, YES\, Queen\, Heart\, Blues Traveler\, and more. He even did a TED talk\, about thinking outside the box\, and he has 12 releases you can listen to on Spotify.Find out more at www.GeoffreyCastle.com
URL:https://beercreekbrew.com/event/geoffrey-castle-beer-creek-brewing-co/
LOCATION:Beer Creek Brewing Co\, 3810 HWY 14\, Santa Fe\, NM\, 87508\, United States
CATEGORIES:Music
END:VEVENT
BEGIN:VEVENT
DTSTART;TZID=America/Denver:20260228T173000
DTEND;TZID=America/Denver:20260228T190000
DTSTAMP:20260421T174242
CREATED:20260130T164356Z
LAST-MODIFIED:20260219T164723Z
UID:2520-1772299800-1772305200@beercreekbrew.com
SUMMARY:Amy Coffman @ Beer Creek Brewing Co.
DESCRIPTION:Singer-songwriter Amy Coffman’s quirky songscape is one of neon motel signs aglow against a southwest sky\, the thrum of diesel engines\, & the smell of fresh-baled alfalfa or an August thunderstorm.\n‘Her songs are little stories with a backbeat–well thought\, effortlessly crafted and real.’ …Celeste Krenz. \nAn accomplished guitarist & performer\, she enjoys few things more than sharing her music with new audiences.
URL:https://beercreekbrew.com/event/amy-coffman-beer-creek-brewing-co-2/
LOCATION:Beer Creek Brewing Co\, 3810 HWY 14\, Santa Fe\, NM\, 87508\, United States
CATEGORIES:Music
END:VEVENT
END:VCALENDAR