BEGIN:VCALENDAR
VERSION:2.0
PRODID:-//Beer Creek Brewing Company - ECPv6.12.0.1//NONSGML v1.0//EN
CALSCALE:GREGORIAN
METHOD:PUBLISH
X-ORIGINAL-URL:https://beercreekbrew.com
X-WR-CALDESC:Events for Beer Creek Brewing Company
REFRESH-INTERVAL;VALUE=DURATION:PT1H
X-Robots-Tag:noindex
X-PUBLISHED-TTL:PT1H
BEGIN:VTIMEZONE
TZID:America/Denver
BEGIN:DAYLIGHT
TZOFFSETFROM:-0700
TZOFFSETTO:-0600
TZNAME:MDT
DTSTART:20250309T090000
END:DAYLIGHT
BEGIN:STANDARD
TZOFFSETFROM:-0600
TZOFFSETTO:-0700
TZNAME:MST
DTSTART:20251102T080000
END:STANDARD
END:VTIMEZONE
BEGIN:VEVENT
DTSTART;TZID=America/Denver:20250226T173000
DTEND;TZID=America/Denver:20250226T190000
DTSTAMP:20260425T050200
CREATED:20241226T181850Z
LAST-MODIFIED:20250214T210653Z
UID:2034-1740591000-1740596400@beercreekbrew.com
SUMMARY:Trivia @ Beer Creek Brewing Co.
DESCRIPTION:Come and join us for trivia🎓\n👥Build your team\n🚫 No FOMO\n🕠 5:30\n📍Beer Creek Brewing Co. in Santa Fe
URL:https://beercreekbrew.com/event/trivia-beer-creek-brewing-co-3-2/
LOCATION:Beer Creek Brewing Co\, 3810 HWY 14\, Santa Fe\, NM\, 87508\, United States
CATEGORIES:Trivia
ATTACH;FMTTYPE=image/jpeg:https://beercreekbrew.com/wp-content/uploads/2024/12/465429268_1160061348994643_6277489580940050275_n.jpg
END:VEVENT
END:VCALENDAR